BEGIN:VCALENDAR
VERSION:2.0
PRODID:-//Downtown Salisbury, NC - ECPv6.14.2//NONSGML v1.0//EN
CALSCALE:GREGORIAN
METHOD:PUBLISH
X-ORIGINAL-URL:https://downtownsalisburync.com
X-WR-CALDESC:Events for Downtown Salisbury, NC
REFRESH-INTERVAL;VALUE=DURATION:PT1H
X-Robots-Tag:noindex
X-PUBLISHED-TTL:PT1H
BEGIN:VTIMEZONE
TZID:America/New_York
BEGIN:DAYLIGHT
TZOFFSETFROM:-0500
TZOFFSETTO:-0400
TZNAME:EDT
DTSTART:20260308T070000
END:DAYLIGHT
BEGIN:STANDARD
TZOFFSETFROM:-0400
TZOFFSETTO:-0500
TZNAME:EST
DTSTART:20261101T060000
END:STANDARD
END:VTIMEZONE
BEGIN:VEVENT
DTSTART;TZID=America/New_York:20260827T170000
DTEND;TZID=America/New_York:20260827T200000
DTSTAMP:20260425T065656
CREATED:20240311T193043Z
LAST-MODIFIED:20260109T213343Z
UID:10000020-1787850000-1787860800@downtownsalisburync.com
SUMMARY:College Night Out
DESCRIPTION:College Night Out is an event where Downtown Development/DSI welcomes and invites students from our local colleges (Livingstone\, Hood Theological Seminary\, Catawba\, and Rowan-Cabarrus Community College) and new Rowan Salisbury School System teachers out for games\, activities\, food networking and so much more! \nThis event offers FREE activities to our local students to introduce them to our downtown community and offer networking opportunities between institutions. We invite you to enjoy an evening in Downtown Salisbury! \nMore details coming soon!
URL:https://downtownsalisburync.com/event/college-night-out/
LOCATION:Bell Tower Green\, 120 S. Church St.\, Salisbury\, NC\, United States
CATEGORIES:Festival,Food,Free
ATTACH;FMTTYPE=image/png:https://downtownsalisburync.com/wp-content/uploads/2024/03/College-Night-Out.png
END:VEVENT
END:VCALENDAR